BEGIN:VCALENDAR
VERSION:2.0
PRODID:-//HC Oberwil – Handballclub Oberwil - ECPv4.6.24//NONSGML v1.0//EN
CALSCALE:GREGORIAN
METHOD:PUBLISH
X-WR-CALNAME:HC Oberwil – Handballclub Oberwil
X-ORIGINAL-URL:https://www.hcoberwil.ch
X-WR-CALDESC:Veranstaltungen für HC Oberwil – Handballclub Oberwil
BEGIN:VEVENT
DTSTART;VALUE=DATE:20230610
DTEND;VALUE=DATE:20230611
DTSTAMP:20260421T030542
CREATED:20221208T212348Z
LAST-MODIFIED:20221208T212348Z
UID:1674-1686355200-1686441599@www.hcoberwil.ch
SUMMARY:25 Jahre HSG Leimental
DESCRIPTION:
URL:https://www.hcoberwil.ch/event/25-jahre-hsg-leimental/
ORGANIZER;CN="HSG%20Leimental":MAILTO:info@hsg-leimental.ch
END:VEVENT
END:VCALENDAR