BEGIN:VCALENDAR
VERSION:2.0
PRODID:-//HC Oberwil – Handballclub Oberwil - ECPv4.6.24//NONSGML v1.0//EN
CALSCALE:GREGORIAN
METHOD:PUBLISH
X-WR-CALNAME:HC Oberwil – Handballclub Oberwil
X-ORIGINAL-URL:https://www.hcoberwil.ch
X-WR-CALDESC:Veranstaltungen für HC Oberwil – Handballclub Oberwil
BEGIN:VEVENT
DTSTART;TZID=Europe/Berlin:20190907T120000
DTEND;TZID=Europe/Berlin:20190907T120000
DTSTAMP:20260421T222522
CREATED:20190720T220745Z
LAST-MODIFIED:20190720T221211Z
UID:1256-1567857600-1567857600@www.hcoberwil.ch
SUMMARY:Burger Festival & Handball
DESCRIPTION:Bergerfestival von 15:30 – 20:00 Uhr \n\n\n\n\n12:00 MU15I-02 SG Leimental – SG Stans/Füchse Emmenbrücke \n14:00 MU19I-03 HSG Leimental – SG Vaud Handball Lausanne \n16:00 M1-02 HSG Leimental – GC Amicitia Zürich \n18:00 SPL2-01 HSG Leimental – SG HV Olten \n\n\n\n\n
URL:https://www.hcoberwil.ch/event/burger-festival-handball/
LOCATION:Thomasgarten\, Schmiedengasse 3\, Oberwil\, 4104\, Schweiz
CATEGORIES:Heimrunde,Raclette Plausch
ATTACH;FMTTYPE=image/png:https://www.hcoberwil.ch/wp-content/uploads/sites/6/2019/07/BurgerFestivalA5_2019.png
ORGANIZER;CN="HC%20Oberwil":MAILTO:info@hcoberwil.ch
END:VEVENT
END:VCALENDAR