BEGIN:VCALENDAR
VERSION:2.0
PRODID:-//HC Oberwil – Handballclub Oberwil - ECPv4.6.24//NONSGML v1.0//EN
CALSCALE:GREGORIAN
METHOD:PUBLISH
X-WR-CALNAME:HC Oberwil – Handballclub Oberwil
X-ORIGINAL-URL:https://www.hcoberwil.ch
X-WR-CALDESC:Veranstaltungen für HC Oberwil – Handballclub Oberwil
BEGIN:VEVENT
DTSTART;TZID=Europe/Berlin:20190921T120000
DTEND;TZID=Europe/Berlin:20190921T220000
DTSTAMP:20260421T215739
CREATED:20190709T212423Z
LAST-MODIFIED:20190709T215533Z
UID:1240-1569067200-1569103200@www.hcoberwil.ch
SUMMARY:Frauenhandball in Oberwil
DESCRIPTION:
URL:https://www.hcoberwil.ch/event/frauenhandball-in-oberwil-2/
CATEGORIES:Heimrunde
ORGANIZER;CN="HC%20Oberwil":MAILTO:info@hcoberwil.ch
END:VEVENT
END:VCALENDAR