BEGIN:VCALENDAR
VERSION:2.0
PRODID:-//HC Oberwil – Handballclub Oberwil - ECPv4.6.24//NONSGML v1.0//EN
CALSCALE:GREGORIAN
METHOD:PUBLISH
X-WR-CALNAME:HC Oberwil – Handballclub Oberwil
X-ORIGINAL-URL:https://www.hcoberwil.ch
X-WR-CALDESC:Veranstaltungen für HC Oberwil – Handballclub Oberwil
BEGIN:VEVENT
DTSTART;TZID=Europe/Berlin:20191026T130000
DTEND;TZID=Europe/Berlin:20191026T210000
DTSTAMP:20260422T010839
CREATED:20190709T212326Z
LAST-MODIFIED:20190709T215624Z
UID:1238-1572094800-1572123600@www.hcoberwil.ch
SUMMARY:Frauenhandball in Oberwil
DESCRIPTION:
URL:https://www.hcoberwil.ch/event/frauenhandball-in-oberwil/
LOCATION:Thomasgarten\, Schmiedengasse 3\, Oberwil\, 4104\, Schweiz
CATEGORIES:Heimrunde
ORGANIZER;CN="HC%20Oberwil":MAILTO:info@hcoberwil.ch
END:VEVENT
END:VCALENDAR