BEGIN:VCALENDAR
VERSION:2.0
PRODID:-//HC Oberwil – Handballclub Oberwil - ECPv4.6.24//NONSGML v1.0//EN
CALSCALE:GREGORIAN
METHOD:PUBLISH
X-WR-CALNAME:HC Oberwil – Handballclub Oberwil
X-ORIGINAL-URL:https://www.hcoberwil.ch
X-WR-CALDESC:Veranstaltungen für HC Oberwil – Handballclub Oberwil
BEGIN:VEVENT
DTSTART;VALUE=DATE:20230618
DTEND;VALUE=DATE:20230619
DTSTAMP:20260420T230740
CREATED:20221208T212514Z
LAST-MODIFIED:20221208T212600Z
UID:1676-1687046400-1687132799@www.hcoberwil.ch
SUMMARY:HCO Plauschturnier
DESCRIPTION:
URL:https://www.hcoberwil.ch/event/hco-plauschturnier/
LOCATION:Thomasgarten\, Schmiedengasse 3\, Oberwil\, 4104\, Schweiz
END:VEVENT
END:VCALENDAR