BEGIN:VCALENDAR
VERSION:2.0
PRODID:-//HC Oberwil – Handballclub Oberwil - ECPv4.6.24//NONSGML v1.0//EN
CALSCALE:GREGORIAN
METHOD:PUBLISH
X-WR-CALNAME:HC Oberwil – Handballclub Oberwil
X-ORIGINAL-URL:https://www.hcoberwil.ch
X-WR-CALDESC:Veranstaltungen für HC Oberwil – Handballclub Oberwil
BEGIN:VEVENT
DTSTART;TZID=Europe/Berlin:20211217T180000
DTEND;TZID=Europe/Berlin:20211217T220000
DTSTAMP:20260421T152259
CREATED:20200911T203536Z
LAST-MODIFIED:20211123T194348Z
UID:1437-1639764000-1639778400@www.hcoberwil.ch
SUMMARY:HCO Sponsorenlauf 2021
DESCRIPTION:
URL:https://www.hcoberwil.ch/event/hco-sponsorenlauf-2021/
LOCATION:Thomasgarten\, Schmiedengasse 3\, Oberwil\, 4104\, Schweiz
ORGANIZER;CN="HC%20Oberwil":MAILTO:info@hcoberwil.ch
END:VEVENT
END:VCALENDAR