BEGIN:VCALENDAR
VERSION:2.0
PRODID:-//HC Oberwil – Handballclub Oberwil - ECPv4.6.24//NONSGML v1.0//EN
CALSCALE:GREGORIAN
METHOD:PUBLISH
X-WR-CALNAME:HC Oberwil – Handballclub Oberwil
X-ORIGINAL-URL:https://www.hcoberwil.ch
X-WR-CALDESC:Veranstaltungen für HC Oberwil – Handballclub Oberwil
BEGIN:VEVENT
DTSTART;TZID=Europe/Berlin:20230512T183000
DTEND;TZID=Europe/Berlin:20230512T220000
DTSTAMP:20260421T072039
CREATED:20221208T212236Z
LAST-MODIFIED:20221208T212236Z
UID:1672-1683916200-1683928800@www.hcoberwil.ch
SUMMARY:HCO Sponsorenlauf
DESCRIPTION:
URL:https://www.hcoberwil.ch/event/hco-sponsorenlauf/
LOCATION:Eisweiher Oberwil\, Weiherweg 7\, Oberwil\, BL\, 4104\, Schweiz
ORGANIZER;CN="HC%20Oberwil":MAILTO:info@hcoberwil.ch
END:VEVENT
END:VCALENDAR